BEGIN:VCALENDAR
VERSION:2.0
PRODID:-//ChamberMaster//Event Calendar 2.0//EN
METHOD:PUBLISH
X-PUBLISHED-TTL:P3D
REFRESH-INTERVAL:P3D
CALSCALE:GREGORIAN
BEGIN:VEVENT
DTSTART:20240521T153000Z
DTEND:20240521T170000Z
X-MICROSOFT-CDO-ALLDAYEVENT:FALSE
SUMMARY:Chamber Chew on This guest speaker Omar Habayeb discussing tech & skills based hiring. At The Garrison Sponsored by The Brain Center
DESCRIPTION:Join the Greater Lawrence Chamber for our monthly lunch series. Chew on This is every 3rd Tuesday of the month!  This month speaker is Omar Habayeb discussing tech & skills based hiring topics.\n\n\n\nIt's a great way to spend your lunch hour networking with others & listening to some wonderful guest speakers.
X-ALT-DESC;FMTTYPE=text/html:<p>Join the Greater Lawrence Chamber for our monthly lunch series. Chew on This is every 3rd Tuesday of the month!&nbsp\; This month speaker is&nbsp\;<b><span style="color:#212121">Omar Habayeb&nbsp\;</span></b><span style="color:#212121">discussing tech &amp\; skills based hiring topics.</span></p>\n\n<p><br />\nIt&#39\;s a great way to spend your lunch hour networking with others &amp\; listening to some wonderful guest speakers.</p>\n\n<p>&nbsp\;</p>\n
LOCATION:The Garrison 6002 N. Post Rd. Indianapolis\, IN 46216
UID:e.3037.3459
SEQUENCE:3
DTSTAMP:20260420T031741Z
URL:https://www.greaterlawrencechamber.org/events/details/chamber-chew-on-this-guest-speaker-omar-habayeb-discussing-tech-skills-based-hiring-at-the-garrison-sponsored-by-the-brain-center-3459
END:VEVENT

END:VCALENDAR
