BEGIN:VCALENDAR
VERSION:2.0
PRODID:-//ChamberMaster//Event Calendar 2.0//EN
METHOD:PUBLISH
X-PUBLISHED-TTL:P3D
REFRESH-INTERVAL:P3D
CALSCALE:GREGORIAN
BEGIN:VEVENT
DTSTART;VALUE=DATE:20260906
DTEND;VALUE=DATE:20260907
TRANSP:TRANSPARENT
X-MICROSOFT-CDO-ALLDAYEVENT:TRUE
SUMMARY:Community Engagement Event
DESCRIPTION:Annual Community Engagement Event September 6th from 1-4 \n\nSponsorship needed \n\nvendor tables \n\nFood Trucks-needed\n\nTheme Boots on the Ground (where them Fans)\n\nLawrence wear your boots and hats and bring them fans!
X-ALT-DESC;FMTTYPE=text/html:Annual Community Engagement Event September 6th from 1-4&nbsp\;<br />\nSponsorship needed&nbsp\;<br />\nvendor tables&nbsp\;<br />\nFood Trucks-needed<br />\nTheme Boots on the Ground (where them Fans)<br />\nLawrence wear your boots and hats and bring them fans!
LOCATION:5625 Sunnyside road Indianapolis\, IN 46235
UID:e.3037.3679
SEQUENCE:3
DTSTAMP:20260424T083619Z
URL:https://www.greaterlawrencechamber.org/events/details/community-engagement-event-09-06-2026-3679
END:VEVENT

END:VCALENDAR
