BEGIN:VCALENDAR
VERSION:2.0
PRODID:-//ChamberMaster//Event Calendar 2.0//EN
METHOD:PUBLISH
X-PUBLISHED-TTL:P3D
REFRESH-INTERVAL:P3D
CALSCALE:GREGORIAN
BEGIN:VEVENT
DTSTART:20230923T180000Z
DTEND:20230923T220000Z
X-MICROSOFT-CDO-ALLDAYEVENT:FALSE
SUMMARY:'Lagers in Lawrence' Oktoberfest
DESCRIPTION:Dust off your Lederhosen and steins--Munich is coming back to Lawrence with the return of the wildly popular 'Lagers in Lawrence' Oktoberfest. The 2023 event will take place on Saturday\, Sept. 23rd from 2pm - 6pm. This event will again be one of the largest and premier Oktoberfest events in all of central Indiana.\n\nThe city of Lawrence\, in partnership with Indiana On Tap\, is excited to present the return of the wildly popular 'Lagers in Lawrence' Oktoberfest. The 2023 event (now in its 6th year) will take place on Saturday\, Sept. 23rd from 2pm - 6pm. It will again be one of the largest and premier Oktoberfests in all of central Indiana.\n\nThe event returns to the Fort Ben Cultural Campus. This picturesque campus features the newly-renovated historic theater\, a visual arts center\, an artist walk\, a history walk\, an amphitheater\, and the world's largest set of musical swings\, all surrounded by stunning public art displays and green spaces. For more information on the Cultural Campus\, please visit www.artsforlawrence.com/FBCC.\n\nAttendees will be allowed UNLIMITED POURS of more than 100+ craft beverages. The event will feature all styles of beer in addition to the popular Lager styles. And not to worry\, there will be plenty of pretzels.\n\nBack by popular demand\, we'll again be featuring one of Indy's best DJ's who will be playing all of your favorite dance hits AND Oktoberfest/Polka hits on stage. He's incredible!\n\nFor you food lovers\, get excited! We'll be hosting several great food vendors once again!\n\nReturning in 2023: We're excited to again host Oktoberfest-style\, Weiner Dog Racing! That's right\, Dachshunds of all shapes and sizes from around central Indiana will be racing in multiple heats throughout the event in the 'Running of the Weiners\,' with the winners competing in the championship heat at the end for the honor of 'Fastest Weiner.' Trust us--if you've never seen it\, you don't want to miss it!
X-ALT-DESC;FMTTYPE=text/html:<p background-color:="" helvetica="" style="box-sizing: border-box\; margin: 0px 0in 10px\; line-height: 25px\; color: rgb(23\, 40\, 86)\; font-size: 16px\; word-break: break-word\;"><span style="font-family: Montserrat\, sans-serif\; font-size: 16px\; text-align: center\;">Dust off your Lederhosen and steins--Munich is coming back to Lawrence with the return of the wildly popular &#39\;Lagers in Lawrence&#39\; Oktoberfest. The 2023 event will take place on Saturday\, Sept. 23rd from 2pm - 6pm. This event will again be one of the largest and premier Oktoberfest events in all of central Indiana.</span></p>\n\n<p style="box-sizing: border-box\; margin: 0px 0px 10px\; padding: 0px\; color: rgb(106\, 119\, 127)\; font-family: Roboto\; font-size: 14px\; background-color: rgb(255\, 255\, 255)\; text-align: center\;"><span style="box-sizing: border-box\; font-size: large\;">The city of Lawrence\, in partnership with</span><a href="https://indianaontap.com/" style="box-sizing: border-box\; text-decoration-line: none\; color: rgb(51\, 122\, 183)\; background-color: transparent\; font-size: large\;"><strong style="box-sizing: border-box\; font-family: var(--bs-typography-font-family\, ">&nbsp\;Indiana On Tap</strong></a><span style="box-sizing: border-box\; font-size: large\;">\, is excited to present the return of the wildly popular&nbsp\;</span><strong color:="" font-size:="" style="box-sizing: border-box\; font-family: var(--bs-typography-font-family\, ">&#39\;Lagers in Lawrence&#39\; Oktoberfest</strong><span style="box-sizing: border-box\; font-size: large\;">. The 2023 event (now in its 6th year)&nbsp\;will take place on&nbsp\;</span><strong font-size:="" style="box-sizing: border-box\; font-family: var(--bs-typography-font-family\, ">Saturday\, Sept. 23rd from 2pm - 6pm.</strong><span style="box-sizing: border-box\; font-size: large\;">&nbsp\;It will again be one of&nbsp\;the largest and premier Oktoberfests in&nbsp\;all of central Indiana.</span></p>\n\n<p style="box-sizing: border-box\; margin: 0px 0px 10px\; padding: 0px\; color: rgb(106\, 119\, 127)\; font-family: Roboto\; font-size: 14px\; background-color: rgb(255\, 255\, 255)\; text-align: center\;"><span style="box-sizing: border-box\; font-size: large\;">The event returns to the&nbsp\;</span><strong font-size:="" style="box-sizing: border-box\; font-family: var(--bs-typography-font-family\, ">Fort Ben Cultural Campus.</strong><span style="box-sizing: border-box\; font-size: large\;">&nbsp\;This picturesque campus features the newly-renovated historic theater\, a visual arts center\, an artist walk\, a history walk\, an amphitheater\, and the world&#39\;s largest set of musical swings\, all surrounded by stunning public art displays and green spaces. For more information on the Cultural Campus\, please visit&nbsp\;</span><a href="https://event.ontaptickets.com/events/www.artsforlawrence.com/FBCC" style="box-sizing: border-box\; text-decoration-line: none\; color: rgb(51\, 122\, 183)\; background-color: transparent\; font-size: large\;">www.artsforlawrence.com/FBCC</a><span style="box-sizing: border-box\; font-size: large\;">.</span></p>\n\n<p style="box-sizing: border-box\; margin: 0px 0px 10px\; padding: 0px\; color: rgb(106\, 119\, 127)\; font-family: Roboto\; font-size: 14px\; background-color: rgb(255\, 255\, 255)\; text-align: center\;"><span style="box-sizing: border-box\; font-size: large\;">Attendees will be allowed UNLIMITED POURS of more than 100+ craft beverages. The event will feature&nbsp\;</span><strong font-size:="" style="box-sizing: border-box\; font-family: var(--bs-typography-font-family\, ">all styles of beer</strong><span style="box-sizing: border-box\; font-size: large\;">&nbsp\;in addition to the popular Lager styles. And not to worry\, there will be plenty of pretzels.</span></p>\n\n<p style="box-sizing: border-box\; margin: 0px 0px 10px\; padding: 0px\; color: rgb(106\, 119\, 127)\; font-family: Roboto\; font-size: 14px\; background-color: rgb(255\, 255\, 255)\; text-align: center\;"><span style="box-sizing: border-box\; font-size: large\;">Back by popular demand\, we&#39\;ll again be featuring one of Indy&#39\;s best DJ&#39\;s who will be playing all of your favorite dance&nbsp\;hits AND Oktoberfest/Polka hits on stage. He&#39\;s incredible!</span></p>\n\n<p style="box-sizing: border-box\; margin: 0px 0px 10px\; padding: 0px\; color: rgb(106\, 119\, 127)\; font-family: Roboto\; font-size: 14px\; background-color: rgb(255\, 255\, 255)\; text-align: center\;"><span style="box-sizing: border-box\; font-size: large\;">For you food lovers\, get excited! We&#39\;ll be hosting several great food vendors once again!</span></p>\n\n<p style="box-sizing: border-box\; margin: 0px 0px 10px\; padding: 0px\; color: rgb(106\, 119\, 127)\; font-family: Roboto\; font-size: 14px\; background-color: rgb(255\, 255\, 255)\; text-align: center\;"><strong font-size:="" style="box-sizing: border-box\; font-family: var(--bs-typography-font-family\, ">Returning in 2023:</strong><span style="box-sizing: border-box\; font-size: large\;">&nbsp\;We&#39\;re excited to again host Oktoberfest-style\, Weiner Dog Racing! That&#39\;s right\, Dachshunds of all shapes and sizes from around central Indiana will be racing in multiple heats throughout the event in the &#39\;Running of the Weiners\,&#39\; with the winners competing in the championship heat at the end for the honor of &#39\;Fastest Weiner.&#39\; Trust us--if you&#39\;ve never seen it\, you don&#39\;t want to miss it!</span></p>\n
LOCATION:Fort Ben Culture Campus
UID:e.3037.3430
SEQUENCE:3
DTSTAMP:20260425T161903Z
URL:https://www.greaterlawrencechamber.org/events/details/lagers-in-lawrence-oktoberfest-3430
END:VEVENT

END:VCALENDAR
