BEGIN:VCALENDAR
VERSION:2.0
PRODID:-//ChamberMaster//Event Calendar 2.0//EN
METHOD:PUBLISH
X-PUBLISHED-TTL:P3D
REFRESH-INTERVAL:P3D
CALSCALE:GREGORIAN
BEGIN:VEVENT
DTSTART:20260304T163000Z
DTEND:20260304T173000Z
X-MICROSOFT-CDO-ALLDAYEVENT:FALSE
SUMMARY:Women's History Month: Guest Speaker Regina Majors\, NCNW\, National Co-Chair of Membership presented by Women in Networking
DESCRIPTION:Women's History Month Knowledge Invitation\n\nHosted by Women In Networking on Wed\, Mar 4\, 2026\n\n(1130-1230) via Zoom.  The National 2026 Theme:\n\nLeading the Change:  Shaping a Sustainable Future"\n\nGuest Speaker Regina Majors\, NCNW\, National Co-Chair of Membership\n\n \n\nPlease mark your calendar for Wed\, Mar 4th (1130-1230) for WHM celebration\, pass on the information to others\, and participate via Zoom.   https://us02web.zoom.us/j/89697873223?pwd=uFWGcLxoD7kjtafx85YUDilO8ai9fg.1\n\nMeeting ID: 896 9787 3223\, Passcode: 978593\, One Tap Mobile:  +19294362866\,\,89697873223#\,\,\,\,*978593# US (New York)\, +13017158592\,\,89697873223#\,\,\,\,*978593# US (Washington DC)
X-ALT-DESC;FMTTYPE=text/html:<strong><span style="color:black"><span style="font-size:14.0pt">Women&rsquo\;s History Month</span></span></strong><span style="color:black"><span style="font-size:14.0pt">&nbsp\;<strong>Knowledge Invitation</strong></span></span><br />\n<span style="color:black"><span style="font-size:14.0pt">Hosted by Women In Networking on <strong>Wed\, Mar 4\, 2026</strong></span></span><br />\n<strong><span style="color:black"><span style="font-size:14.0pt">(1130-1230) via Zoom</span></span></strong><span style="color:black"><span style="font-size:14.0pt">. &nbsp\;The National 2026 Theme:</span></span><br />\n<strong><em><span style="color:black"><span style="font-size:14.0pt">Leading the Change:&nbsp\; Shaping a Sustainable</span></span></em></strong><span style="color:black"><span style="font-size:14.0pt">&nbsp\;<strong><em>Future</em></strong>&rdquo\;</span></span><br />\n<strong><span style="color:black"><span style="font-size:14.0pt">Guest Speaker Regina Majors\, NCNW\, National Co-Chair of Membership</span></span></strong><br />\n&nbsp\;<br />\n<span style="color:black"><span style="font-size:14.0pt">Please mark your calendar for <strong>Wed\, Mar 4th (1130-1230</strong>) for WHM celebration\, pass on the information to others\, and participate via Zoom.&nbsp\; &nbsp\;</span></span><span style="color:#0563C1"><span style="font-size:14.0pt"><a href="https://us02web.zoom.us/j/89697873223?pwd=uFWGcLxoD7kjtafx85YUDilO8ai9fg.1" title="https://us02web.zoom.us/j/89697873223?pwd=uFWGcLxoD7kjtafx85YUDilO8ai9fg.1"><span style="color:#0563C1">https://us02web.zoom.us/j/89697873223?pwd=uFWGcLxoD7kjtafx85YUDilO8ai9fg.1</span></a></span></span><br />\n<span style="color:black"><span style="font-size:14.0pt">Meeting ID: 896 9787 3223\, Passcode: 978593\, One Tap Mobile:&nbsp\; +19294362866\,\,89697873223#\,\,\,\,*978593# US (New York)\, +13017158592\,\,89697873223#\,\,\,\,*978593# US (Washington DC)&nbsp\;&nbsp\;&nbsp\;&nbsp\;&nbsp\;&nbsp\;&nbsp\;&nbsp\;&nbsp\;</span></span>
LOCATION:Participate via Zoom. https://us02web.zoom.us/j/89697873223?pwd=uFWGcLxoD7kjtafx85YUDilO8ai9fg.1 Meeting ID: 896 9787 3223\, Passcode: 978593\, One Tap Mobile: +19294362866\,\,89697873223#\,\,\,\,*978593# US (New York)\, +13017158592\,\,89697873223#\,\,\,\,*978593# US (Washington DC)
UID:e.3037.3859
SEQUENCE:3
DTSTAMP:20260421T081314Z
URL:https://www.greaterlawrencechamber.org/events/details/women-s-history-month-guest-speaker-regina-majors-ncnw-national-co-chair-of-membership-presented-by-women-in-networking-3859
END:VEVENT

END:VCALENDAR
